BEGIN:VCALENDAR
VERSION:2.0
PRODID:-//Hospitality Human Resources Association - ECPv6.15.20//NONSGML v1.0//EN
CALSCALE:GREGORIAN
METHOD:PUBLISH
X-WR-CALNAME:Hospitality Human Resources Association
X-ORIGINAL-URL:https://hhra.org
X-WR-CALDESC:Events for Hospitality Human Resources Association
REFRESH-INTERVAL;VALUE=DURATION:PT1H
X-Robots-Tag:noindex
X-PUBLISHED-TTL:PT1H
BEGIN:VTIMEZONE
TZID:America/New_York
BEGIN:DAYLIGHT
TZOFFSETFROM:-0500
TZOFFSETTO:-0400
TZNAME:EDT
DTSTART:20230312T070000
END:DAYLIGHT
BEGIN:STANDARD
TZOFFSETFROM:-0400
TZOFFSETTO:-0500
TZNAME:EST
DTSTART:20231105T060000
END:STANDARD
BEGIN:DAYLIGHT
TZOFFSETFROM:-0500
TZOFFSETTO:-0400
TZNAME:EDT
DTSTART:20240310T070000
END:DAYLIGHT
BEGIN:STANDARD
TZOFFSETFROM:-0400
TZOFFSETTO:-0500
TZNAME:EST
DTSTART:20241103T060000
END:STANDARD
BEGIN:DAYLIGHT
TZOFFSETFROM:-0500
TZOFFSETTO:-0400
TZNAME:EDT
DTSTART:20250309T070000
END:DAYLIGHT
BEGIN:STANDARD
TZOFFSETFROM:-0400
TZOFFSETTO:-0500
TZNAME:EST
DTSTART:20251102T060000
END:STANDARD
END:VTIMEZONE
BEGIN:VEVENT
DTSTART;TZID=America/New_York:20241203T120000
DTEND;TZID=America/New_York:20241210T140000
DTSTAMP:20260423T075106
CREATED:20241107T153818Z
LAST-MODIFIED:20241208T152442Z
UID:1833-1733227200-1733839200@hhra.org
SUMMARY:HHRA Holiday Lunch
DESCRIPTION:
URL:https://hhra.org/event/hhra-holiday-lunch-2/
LOCATION:Evermore\, 1 North Jacaranda\, Orlando\, FL\, 32836\, United States
ATTACH;FMTTYPE=application/pdf:https://hhra.org/wp-content/uploads/2024/11/HHRA-December.pdf
END:VEVENT
END:VCALENDAR