BEGIN:VCALENDAR
VERSION:2.0
PRODID:-//Hospitality Human Resources Association - ECPv6.15.20//NONSGML v1.0//EN
CALSCALE:GREGORIAN
METHOD:PUBLISH
X-WR-CALNAME:Hospitality Human Resources Association
X-ORIGINAL-URL:https://hhra.org
X-WR-CALDESC:Events for Hospitality Human Resources Association
REFRESH-INTERVAL;VALUE=DURATION:PT1H
X-Robots-Tag:noindex
X-PUBLISHED-TTL:PT1H
BEGIN:VTIMEZONE
TZID:UTC
BEGIN:STANDARD
TZOFFSETFROM:+0000
TZOFFSETTO:+0000
TZNAME:UTC
DTSTART:20210101T000000
END:STANDARD
END:VTIMEZONE
BEGIN:VEVENT
DTSTART;TZID=UTC:20220525T083000
DTEND;TZID=UTC:20220525T093000
DTSTAMP:20260423T164108
CREATED:20220513T234849Z
LAST-MODIFIED:20220524T175106Z
UID:229-1653467400-1653471000@hhra.org
SUMMARY:How you can hire more employees now!
DESCRIPTION:Even before the pandemic\, employers and recruiters struggled with hiring. Today\, companies are offering money to job seekers just to show up for an interview. This has to change. Roger will share how his group used multiple recruiting resources\, processes\, technology\, and people to pull off a feat nobody thought was possible. For hospitality employers\, implementing a few of these changes will tighten up the recruiting process and get more hires.
URL:https://hhra.org/event/how-you-can-hire-more-employees-now/
LOCATION:Rosen Plaza Hotel Salon\, 9700 International Dr\, Orlando\, FL\, 32819\, United States
ATTACH;FMTTYPE=image/png:https://hhra.org/wp-content/uploads/2022/05/May-HHRA-2.png
END:VEVENT
END:VCALENDAR