BEGIN:VCALENDAR
VERSION:2.0
PRODID:-//Hospitality Human Resources Association - ECPv6.15.20//NONSGML v1.0//EN
CALSCALE:GREGORIAN
METHOD:PUBLISH
X-ORIGINAL-URL:https://hhra.org
X-WR-CALDESC:Events for Hospitality Human Resources Association
REFRESH-INTERVAL;VALUE=DURATION:PT1H
X-Robots-Tag:noindex
X-PUBLISHED-TTL:PT1H
BEGIN:VTIMEZONE
TZID:America/New_York
BEGIN:DAYLIGHT
TZOFFSETFROM:-0500
TZOFFSETTO:-0400
TZNAME:EDT
DTSTART:20230312T070000
END:DAYLIGHT
BEGIN:STANDARD
TZOFFSETFROM:-0400
TZOFFSETTO:-0500
TZNAME:EST
DTSTART:20231105T060000
END:STANDARD
BEGIN:DAYLIGHT
TZOFFSETFROM:-0500
TZOFFSETTO:-0400
TZNAME:EDT
DTSTART:20240310T070000
END:DAYLIGHT
BEGIN:STANDARD
TZOFFSETFROM:-0400
TZOFFSETTO:-0500
TZNAME:EST
DTSTART:20241103T060000
END:STANDARD
BEGIN:DAYLIGHT
TZOFFSETFROM:-0500
TZOFFSETTO:-0400
TZNAME:EDT
DTSTART:20250309T070000
END:DAYLIGHT
BEGIN:STANDARD
TZOFFSETFROM:-0400
TZOFFSETTO:-0500
TZNAME:EST
DTSTART:20251102T060000
END:STANDARD
END:VTIMEZONE
BEGIN:VEVENT
DTSTART;TZID=America/New_York:20240917T083000
DTEND;TZID=America/New_York:20240917T103000
DTSTAMP:20260423T143546
CREATED:20240906T191616Z
LAST-MODIFIED:20240906T191616Z
UID:1696-1726561800-1726569000@hhra.org
SUMMARY:Understanding the Importance of Mental Health in the Workplace
DESCRIPTION:
URL:https://hhra.org/event/understanding-the-importance-of-mental-health-in-the-workplace/
LOCATION:Sheraton Orlando Lake Buena Vista Resort\, 12205 S. Apopka Vineland Road
ATTACH;FMTTYPE=application/pdf:https://hhra.org/wp-content/uploads/2024/09/September-2024_HHRA-Flyer.pdf
END:VEVENT
END:VCALENDAR